BEGIN:VCALENDAR
VERSION:2.0
PRODID:-//Refract | The Seattle Glass Experience - ECPv6.15.20//NONSGML v1.0//EN
CALSCALE:GREGORIAN
METHOD:PUBLISH
X-ORIGINAL-URL:https://refractseattle.org
X-WR-CALDESC:Events for Refract | The Seattle Glass Experience
REFRESH-INTERVAL;VALUE=DURATION:PT1H
X-Robots-Tag:noindex
X-PUBLISHED-TTL:PT1H
BEGIN:VTIMEZONE
TZID:America/Los_Angeles
BEGIN:DAYLIGHT
TZOFFSETFROM:-0800
TZOFFSETTO:-0700
TZNAME:PDT
DTSTART:20240310T100000
END:DAYLIGHT
BEGIN:STANDARD
TZOFFSETFROM:-0700
TZOFFSETTO:-0800
TZNAME:PST
DTSTART:20241103T090000
END:STANDARD
BEGIN:DAYLIGHT
TZOFFSETFROM:-0800
TZOFFSETTO:-0700
TZNAME:PDT
DTSTART:20250309T100000
END:DAYLIGHT
BEGIN:STANDARD
TZOFFSETFROM:-0700
TZOFFSETTO:-0800
TZNAME:PST
DTSTART:20251102T090000
END:STANDARD
BEGIN:DAYLIGHT
TZOFFSETFROM:-0800
TZOFFSETTO:-0700
TZNAME:PDT
DTSTART:20260308T100000
END:DAYLIGHT
BEGIN:STANDARD
TZOFFSETFROM:-0700
TZOFFSETTO:-0800
TZNAME:PST
DTSTART:20261101T090000
END:STANDARD
END:VTIMEZONE
BEGIN:VEVENT
DTSTART;TZID=America/Los_Angeles:20251019T120000
DTEND;TZID=America/Los_Angeles:20251019T153000
DTSTAMP:20260425T203746
CREATED:20251015T182042Z
LAST-MODIFIED:20251016T154032Z
UID:10001602-1760875200-1760887800@refractseattle.org
SUMMARY:South Seattle Shuttle #2
DESCRIPTION:The 12pm depart from the Space Needle valet\, and will include studio visits to Inna Patina\, Noble Neon\, Morgan Peterson/Courtney Branam\, Totally Blown Glass\, Rich Royal\, and KCJ Szwedsinski/ Dave Walters. \nTo reserve your spot\, see here: https://fareharbor.com/embeds/book/toursnorthwest/items/491043/availability/1832388612/book/?full-items=yes
URL:https://refractseattle.org/event/south-seattle-shuttle-2/
LOCATION:Space Needle\, 400 Broad St\, Seattle\, Washington\, 98109
ATTACH;FMTTYPE=image/jpeg:https://refractseattle.org/wp-content/uploads/2025/10/SnapInsta.to_556180186_18139685557428262_8944761875304851432_n.jpg
GEO:47.6203953;-122.3493709
X-APPLE-STRUCTURED-LOCATION;VALUE=URI;X-ADDRESS=Space Needle 400 Broad St Seattle Washington 98109;X-APPLE-RADIUS=500;X-TITLE=400 Broad St:geo:-122.3493709,47.6203953
END:VEVENT
BEGIN:VEVENT
DTSTART;TZID=America/Los_Angeles:20251019T110000
DTEND;TZID=America/Los_Angeles:20251019T144500
DTSTAMP:20260425T203746
CREATED:20251015T204047Z
LAST-MODIFIED:20251018T161930Z
UID:10001601-1760871600-1760885100@refractseattle.org
SUMMARY:South Seattle Shuttle #1
DESCRIPTION:The 11am shuttle will depart from the Space Needle valet\, and will include studio visits to Pohlman Knowles\, Mikey Cozza/Sasha Tepper Stewart\, Rich Royal\, and KCJ Szwedsinski/ Dave Walters. \nTo reserve your spot\, see here: https://fareharbor.com/embeds/book/toursnorthwest/items/491043/availability/1832388614/book/?full-items=yes 
URL:https://refractseattle.org/event/south-seattle-shuttle-1/
LOCATION:Space Needle\, 400 Broad St\, Seattle\, Washington\, 98109
ATTACH;FMTTYPE=image/jpeg:https://refractseattle.org/wp-content/uploads/2025/10/SnapInsta.to_556180186_18139685557428262_8944761875304851432_n.jpg
GEO:47.6203953;-122.3493709
X-APPLE-STRUCTURED-LOCATION;VALUE=URI;X-ADDRESS=Space Needle 400 Broad St Seattle Washington 98109;X-APPLE-RADIUS=500;X-TITLE=400 Broad St:geo:-122.3493709,47.6203953
END:VEVENT
BEGIN:VEVENT
DTSTART;TZID=America/Los_Angeles:20251019T090000
DTEND;TZID=America/Los_Angeles:20251019T143000
DTSTAMP:20260425T203746
CREATED:20251016T152129Z
LAST-MODIFIED:20251016T153843Z
UID:10001600-1760864400-1760884200@refractseattle.org
SUMMARY:Tacoma Shuttle with the Museum of Glass
DESCRIPTION:The Tacoma Shuttle with the Museum of Glass\, will be departing at 9am on Sunday\, October 19 from the Space Needle valet. This shuttle will feature a visit to the Museum of Glass to watch visiting artist Asa Sundlund work with the team\, a curator led tour\, followed by studio visits to Weston Lambert and the Hilltop Artists. \nPreston Singletary is doing an artist’s talk on the Shuttle to Tacoma. \nTo reserve your spot\, see here: https://fareharbor.com/embeds/book/toursnorthwest/items/491043/availability/1833486476/book/?full-items=yes
URL:https://refractseattle.org/event/tacoma-shuttle-with-the-museum-of-glass/
LOCATION:Space Needle\, 400 Broad St\, Seattle\, Washington\, 98109
ATTACH;FMTTYPE=image/jpeg:https://refractseattle.org/wp-content/uploads/2025/10/SnapInsta.to_556180186_18139685557428262_8944761875304851432_n.jpg
GEO:47.6203953;-122.3493709
X-APPLE-STRUCTURED-LOCATION;VALUE=URI;X-ADDRESS=Space Needle 400 Broad St Seattle Washington 98109;X-APPLE-RADIUS=500;X-TITLE=400 Broad St:geo:-122.3493709,47.6203953
END:VEVENT
BEGIN:VEVENT
DTSTART;VALUE=DATE:20251018
DTEND;VALUE=DATE:20251020
DTSTAMP:20260425T203746
CREATED:20250911T230240Z
LAST-MODIFIED:20250924T231021Z
UID:10001594-1760745600-1760918399@refractseattle.org
SUMMARY:Open Artist Studios - Shuttle Bus Tours
DESCRIPTION:Enjoy the opportunity to visit with these extraordinary artists as they open their studios to you. For the full lineup of Open Artist Studios\, please see here. \nStudio capacities may be limited but artists will be happy to welcome you. You just may have to wait a few minutes for access to keep the spaces flowing\, thank you! \nRefract Shuttle buses are now available to book through Tours NW. Tours will be going to Everett\, North Seattle\, Tacoma and South Seattle. To purchase tickets\, please visit this link. \n\nThe Everett Shuttle tour will be departing at 10am on Saturday\, October 18 and will include studio visits to Illuminata Glass & Nick Lawson\, a stop at the Schack Art Center to see the current exhibition and watch live glassblowing by exhibiting artists Walt Riehl and Dick Weiss\, followed by a stroll through Downtown Everett to explore various artists work in a variety of storefront windows\nThere are two North Seattle Shuttles on Saturday\, October 18. The 11am departure will include studio visits to Radiant Neon\, Carol Milne\, Seymour Glass\, Milo Snyder and Dante Marioni. The 12pm departure will include Base Camp\, Carol Milne\, Water Street\, Dante Marioni\, and Joan Bazaz.\nThe Tacoma Shuttle with the Museum of Glass will be departing at 9am on Sunday\, October 19. This shuttle will feature a visit to the Museum of Glass to watch visiting artist Asa Sundlund work with the team\, a curator led tour\, followed by studio visits to Weston Lambert and the Hilltop Artists\nThere will be two South Seattle Shuttles on Sunday\, October 19. The 11am departure will include studio visits to Kait Rhoads\, Pohlman Knowles\, Mikey Cozza/Sasha Tepper Stewart\, Rich Royal\, and KCJ Szwedsinski/ Dave Walters. The 12pm departure will include studio visits to Inna Patina\, Noble Neon\, Morgan Peterson/Courtney Branam\, Totally Blown Glass\, Rich Royal\, and KCJ Szwedsinski/ Dave Walters.\nPlease be aware that there will not be food on board; however\, all shuttle buses will make a stop at a local café midway through the day.\nPlease note that exact itineraries are subject to artists’ availability on the day.\nAll shuttle buses will be picking up from the Space Needle valet\n\nShuttles cost $25-$35\, excluding fees.
URL:https://refractseattle.org/event/open-artist-studios-shuttle-bus-tours/
LOCATION:Space Needle\, 400 Broad St\, Seattle\, Washington\, 98109
CATEGORIES:Signature Event
ATTACH;FMTTYPE=image/png:https://refractseattle.org/wp-content/uploads/2025/06/glassybaby-live-demo.png
GEO:47.6203953;-122.3493709
X-APPLE-STRUCTURED-LOCATION;VALUE=URI;X-ADDRESS=Space Needle 400 Broad St Seattle Washington 98109;X-APPLE-RADIUS=500;X-TITLE=400 Broad St:geo:-122.3493709,47.6203953
END:VEVENT
END:VCALENDAR