BEGIN:VCALENDAR
VERSION:2.0
PRODID:-//Refract | The Seattle Glass Experience - ECPv6.15.20//NONSGML v1.0//EN
CALSCALE:GREGORIAN
METHOD:PUBLISH
X-ORIGINAL-URL:https://refractseattle.org
X-WR-CALDESC:Events for Refract | The Seattle Glass Experience
REFRESH-INTERVAL;VALUE=DURATION:PT1H
X-Robots-Tag:noindex
X-PUBLISHED-TTL:PT1H
BEGIN:VTIMEZONE
TZID:America/Los_Angeles
BEGIN:DAYLIGHT
TZOFFSETFROM:-0800
TZOFFSETTO:-0700
TZNAME:PDT
DTSTART:20240310T100000
END:DAYLIGHT
BEGIN:STANDARD
TZOFFSETFROM:-0700
TZOFFSETTO:-0800
TZNAME:PST
DTSTART:20241103T090000
END:STANDARD
BEGIN:DAYLIGHT
TZOFFSETFROM:-0800
TZOFFSETTO:-0700
TZNAME:PDT
DTSTART:20250309T100000
END:DAYLIGHT
BEGIN:STANDARD
TZOFFSETFROM:-0700
TZOFFSETTO:-0800
TZNAME:PST
DTSTART:20251102T090000
END:STANDARD
BEGIN:DAYLIGHT
TZOFFSETFROM:-0800
TZOFFSETTO:-0700
TZNAME:PDT
DTSTART:20260308T100000
END:DAYLIGHT
BEGIN:STANDARD
TZOFFSETFROM:-0700
TZOFFSETTO:-0800
TZNAME:PST
DTSTART:20261101T090000
END:STANDARD
END:VTIMEZONE
BEGIN:VEVENT
DTSTART;TZID=America/Los_Angeles:20251018T163000
DTEND;TZID=America/Los_Angeles:20251018T223000
DTSTAMP:20260425T174455
CREATED:20250617T231859Z
LAST-MODIFIED:20250911T230430Z
UID:10001525-1760805000-1760826600@refractseattle.org
SUMMARY:Pilchuck Glass School's 47th Annual Auction and Gala ⭐ ♿
DESCRIPTION:Join our community of artists and generous supporters to raise critical funds for Pilchuck Glass School’s transformative program. The Pilchuck Annual Auction and Gala is a unique moment in time when art\, history\, community\, and entertainment intersect. Tickets include an art auction featuring artwork from renowned international glass artists\, an inspiring program highlighting Pilchuck’s mission\, a gourmet dinner\, and more surprises! \nTickets are now on sale: https://event.auctria.com/eb8d1707-9c1f-4a69-9859-203338b0322d/a809178051b511ea91bae14d12592328
URL:https://refractseattle.org/event/pilchuck-glass-schools-47th-annual-auction-and-gala-%e2%ad%90-%e2%99%bf/
LOCATION:Fremont Studios\, 155 N 35th St\, Seattle\, 98103\, United States
CATEGORIES:Accessible Location,Art Party,Signature Event
ATTACH;FMTTYPE=image/jpeg:https://refractseattle.org/wp-content/uploads/2025/06/2023-Auction-High-Res-NR-Dan-DeLong-49-6-scaled.jpg
GEO:47.6513863;-122.3555033
X-APPLE-STRUCTURED-LOCATION;VALUE=URI;X-ADDRESS=Fremont Studios 155 N 35th St Seattle 98103 United States;X-APPLE-RADIUS=500;X-TITLE=155 N 35th St:geo:-122.3555033,47.6513863
END:VEVENT
END:VCALENDAR