BEGIN:VCALENDAR
VERSION:2.0
PRODID:-//Refract | The Seattle Glass Experience - ECPv6.15.20//NONSGML v1.0//EN
CALSCALE:GREGORIAN
METHOD:PUBLISH
X-WR-CALNAME:Refract | The Seattle Glass Experience
X-ORIGINAL-URL:https://refractseattle.org
X-WR-CALDESC:Events for Refract | The Seattle Glass Experience
REFRESH-INTERVAL;VALUE=DURATION:PT1H
X-Robots-Tag:noindex
X-PUBLISHED-TTL:PT1H
BEGIN:VTIMEZONE
TZID:America/Los_Angeles
BEGIN:DAYLIGHT
TZOFFSETFROM:-0800
TZOFFSETTO:-0700
TZNAME:PDT
DTSTART:20240310T100000
END:DAYLIGHT
BEGIN:STANDARD
TZOFFSETFROM:-0700
TZOFFSETTO:-0800
TZNAME:PST
DTSTART:20241103T090000
END:STANDARD
BEGIN:DAYLIGHT
TZOFFSETFROM:-0800
TZOFFSETTO:-0700
TZNAME:PDT
DTSTART:20250309T100000
END:DAYLIGHT
BEGIN:STANDARD
TZOFFSETFROM:-0700
TZOFFSETTO:-0800
TZNAME:PST
DTSTART:20251102T090000
END:STANDARD
BEGIN:DAYLIGHT
TZOFFSETFROM:-0800
TZOFFSETTO:-0700
TZNAME:PDT
DTSTART:20260308T100000
END:DAYLIGHT
BEGIN:STANDARD
TZOFFSETFROM:-0700
TZOFFSETTO:-0800
TZNAME:PST
DTSTART:20261101T090000
END:STANDARD
END:VTIMEZONE
BEGIN:VEVENT
DTSTART;TZID=America/Los_Angeles:20251019T080000
DTEND;TZID=America/Los_Angeles:20251019T100000
DTSTAMP:20260425T192036
CREATED:20250813T162645Z
LAST-MODIFIED:20250924T221552Z
UID:10001587-1760860800-1760868000@refractseattle.org
SUMMARY:Morning Yoga at Chihuly Garden and Glass
DESCRIPTION:Close out your REFRACT weekend with a Vinyasa Yoga. Connect with the community and ignite your mind\, body and spirit with the unique experience of Yoga in Chihuly Garden and Glass’ inspirational Glasshouse. This special 50-minute session is accessible and designed for all skill levels. Admission into the Galleries is included after class for all participants. Ages 12 and older. Each ticket purchased includes general admission and a 50-minute Yoga session in the Glasshouse. 7:30AM check-in | 8AM start time. \nTo purchase tickets\, please see here: https://cgg.web.ticketing.siaticketing.com/tickets/events
URL:https://refractseattle.org/event/morning-yoga-at-chihuly-garden-and-glass/
LOCATION:Chihuly Garden and Glass\, 305 Harrison St\, Seattle\, WA\, 98109\, United States
CATEGORIES:Accessible Location
ATTACH;FMTTYPE=image/jpeg:https://refractseattle.org/wp-content/uploads/2025/08/Untitled-design-2.jpg
GEO:47.6204658;-122.3507819
X-APPLE-STRUCTURED-LOCATION;VALUE=URI;X-ADDRESS=Chihuly Garden and Glass 305 Harrison St Seattle WA 98109 United States;X-APPLE-RADIUS=500;X-TITLE=305 Harrison St:geo:-122.3507819,47.6204658
END:VEVENT
BEGIN:VEVENT
DTSTART;TZID=America/Los_Angeles:20251016T190000
DTEND;TZID=America/Los_Angeles:20251016T220000
DTSTAMP:20260425T192036
CREATED:20250617T205959Z
LAST-MODIFIED:20251016T152503Z
UID:10001506-1760641200-1760652000@refractseattle.org
SUMMARY:Gather: The official opening night party ⭐ ♿
DESCRIPTION:Kicking off our seventh anniversary of Refract\, ‘Gather’ with us for the opening night party at Chihuly Garden and Glass! Ignite your curiosity with glassblowing demonstrations from amazing glass artists\, VIP tours of Chihuly Garden and Glass\, music\, hors d’oeuvres\, signature cocktails\, and other special programming to light up the night. This is the night to connect with the glass art community\, from Seattle and beyond– don’t miss it! \nThis is a 21+ event – IDs must be shown at the door. Doors open at 6:30pm. \nTickets are available here: https://cgg.web.ticketing.siaticketing.com/tickets/events  \n \nNEW! Our limited-edition REFRACT tote bag is now available for purchase. \nBold\, durable\, and effortlessly stylish – this tote is made for REFRACT and hauling all your must-haves (snacks\, sunnies\, glitter… you name it). \nWhy you’ll love it:\n✔️ Eye-catching design\n✔️ Reusable\n✔️ Spacious enough for all your essentials\n✔️ The perfect accessory to complete your REFRACT look \nGrab yours before they disappear! \nDETAILS: \nCost: $15. Proceeds go back to the production of REFRACT \nWhere to buy: REFRACT tote bags will be available at the Chihuly Garden and Glass bookstore during regular operating hours\, Sunday- Sunday (October 12-19)\, during the week of REFRACT. \nThey will also be available to purchase at GATHER\, our kickoff party\, on Thursday\, October 17th. \nThis is an in-person purchase only; nothing will be sold online.
URL:https://refractseattle.org/event/gather-the-official-opening-night-party-%e2%ad%90-%e2%99%bf/
LOCATION:Chihuly Garden and Glass\, 305 Harrison St\, Seattle\, WA\, 98109\, United States
CATEGORIES:Accessible Location,Art Party,Signature Event
ATTACH;FMTTYPE=image/png:https://refractseattle.org/wp-content/uploads/2025/06/GATHER.png
GEO:47.6204658;-122.3507819
X-APPLE-STRUCTURED-LOCATION;VALUE=URI;X-ADDRESS=Chihuly Garden and Glass 305 Harrison St Seattle WA 98109 United States;X-APPLE-RADIUS=500;X-TITLE=305 Harrison St:geo:-122.3507819,47.6204658
END:VEVENT
END:VCALENDAR