BEGIN:VCALENDAR
VERSION:2.0
PRODID:-//Refract | The Seattle Glass Experience - ECPv6.15.20//NONSGML v1.0//EN
CALSCALE:GREGORIAN
METHOD:PUBLISH
X-ORIGINAL-URL:https://refractseattle.org
X-WR-CALDESC:Events for Refract | The Seattle Glass Experience
REFRESH-INTERVAL;VALUE=DURATION:PT1H
X-Robots-Tag:noindex
X-PUBLISHED-TTL:PT1H
BEGIN:VTIMEZONE
TZID:America/Los_Angeles
BEGIN:DAYLIGHT
TZOFFSETFROM:-0800
TZOFFSETTO:-0700
TZNAME:PDT
DTSTART:20240310T100000
END:DAYLIGHT
BEGIN:STANDARD
TZOFFSETFROM:-0700
TZOFFSETTO:-0800
TZNAME:PST
DTSTART:20241103T090000
END:STANDARD
BEGIN:DAYLIGHT
TZOFFSETFROM:-0800
TZOFFSETTO:-0700
TZNAME:PDT
DTSTART:20250309T100000
END:DAYLIGHT
BEGIN:STANDARD
TZOFFSETFROM:-0700
TZOFFSETTO:-0800
TZNAME:PST
DTSTART:20251102T090000
END:STANDARD
BEGIN:DAYLIGHT
TZOFFSETFROM:-0800
TZOFFSETTO:-0700
TZNAME:PDT
DTSTART:20260308T100000
END:DAYLIGHT
BEGIN:STANDARD
TZOFFSETFROM:-0700
TZOFFSETTO:-0800
TZNAME:PST
DTSTART:20261101T090000
END:STANDARD
END:VTIMEZONE
BEGIN:VEVENT
DTSTART;TZID=America/Los_Angeles:20251018T120000
DTEND;TZID=America/Los_Angeles:20251018T154500
DTSTAMP:20260425T134528
CREATED:20251015T182853Z
LAST-MODIFIED:20251016T153648Z
UID:10001599-1760788800-1760802300@refractseattle.org
SUMMARY:North Seattle Shuttle #2
DESCRIPTION:The 12pm shuttle will depart from Amazon Spheres (2100 6th Avenue\, Seattle\, WA 98121)\, and will include Base Camp\, Carol Milne\, Milo Snyder\, Dante Marioni\, and Joan Bazaz. \n  \nTo reserve your spot\, see here: https://fareharbor.com/embeds/book/toursnorthwest/items/491043/availability/1832388611/book/?full-items=yes
URL:https://refractseattle.org/event/north-seattle-shuttle-2/
LOCATION:Amazon Spheres\, 2100 6th Avenue\, Seattle\, WA\, 98121
ATTACH;FMTTYPE=image/jpeg:https://refractseattle.org/wp-content/uploads/2025/10/SnapInsta.to_556180186_18139685557428262_8944761875304851432_n.jpg
GEO:47.6154384;-122.3396744
X-APPLE-STRUCTURED-LOCATION;VALUE=URI;X-ADDRESS=Amazon Spheres 2100 6th Avenue Seattle WA 98121;X-APPLE-RADIUS=500;X-TITLE=2100 6th Avenue:geo:-122.3396744,47.6154384
END:VEVENT
BEGIN:VEVENT
DTSTART;TZID=America/Los_Angeles:20251018T110000
DTEND;TZID=America/Los_Angeles:20251018T143000
DTSTAMP:20260425T134528
CREATED:20251015T183032Z
LAST-MODIFIED:20251016T153538Z
UID:10001598-1760785200-1760797800@refractseattle.org
SUMMARY:North Seattle Shuttle #1
DESCRIPTION:The 11am shuttle will depart from Amazon Spheres (2100 6th Avenue\, Seattle\, WA 98121) and will include studio visits to Radiant Neon\, Carol Milne\, Seymour Glass\, Milo Snyder and Dante Marioni. \nTo reserve your spot\, see here: https://fareharbor.com/embeds/book/toursnorthwest/items/491043/availability/1832388610/book/?full-items=yes 
URL:https://refractseattle.org/event/north-seattle-shuttle-1/
LOCATION:Amazon Spheres\, 2100 6th Avenue\, Seattle\, WA\, 98121
ATTACH;FMTTYPE=image/jpeg:https://refractseattle.org/wp-content/uploads/2025/10/SnapInsta.to_556180186_18139685557428262_8944761875304851432_n.jpg
GEO:47.6154384;-122.3396744
X-APPLE-STRUCTURED-LOCATION;VALUE=URI;X-ADDRESS=Amazon Spheres 2100 6th Avenue Seattle WA 98121;X-APPLE-RADIUS=500;X-TITLE=2100 6th Avenue:geo:-122.3396744,47.6154384
END:VEVENT
BEGIN:VEVENT
DTSTART;TZID=America/Los_Angeles:20251018T100000
DTEND;TZID=America/Los_Angeles:20251018T131500
DTSTAMP:20260425T134528
CREATED:20251015T182147Z
LAST-MODIFIED:20251016T151940Z
UID:10001597-1760781600-1760793300@refractseattle.org
SUMMARY:Everett Shuttle Tour
DESCRIPTION:The Everett Shuttle tour will be departing at 10am on Saturday\, October 18 from Amazon Spheres (2100 6th Avenue\, Seattle\, WA 98121) and will include studio visits to Illuminata Glass & Nick Lawson\, a stop at the Schack Art Center to see the current exhibition and watch live glassblowing by exhibiting artists Walt Lieberman and Dick Weiss\, followed by a stroll through Downtown Everett to explore various artists work in a variety of storefront windows. \nWalt Leiberman will be on the bus giving an artist talk. \nTo reserve your spot on the shuttle\, please see here: https://fareharbor.com/embeds/book/toursnorthwest/items/491043/availability/1833478770/book/?full-items=yes 
URL:https://refractseattle.org/event/everett-shuttle-tour/
LOCATION:Amazon Spheres\, 2100 6th Avenue\, Seattle\, WA\, 98121
ATTACH;FMTTYPE=image/jpeg:https://refractseattle.org/wp-content/uploads/2025/10/SnapInsta.to_556180186_18139685557428262_8944761875304851432_n.jpg
GEO:47.6154384;-122.3396744
X-APPLE-STRUCTURED-LOCATION;VALUE=URI;X-ADDRESS=Amazon Spheres 2100 6th Avenue Seattle WA 98121;X-APPLE-RADIUS=500;X-TITLE=2100 6th Avenue:geo:-122.3396744,47.6154384
END:VEVENT
END:VCALENDAR