BEGIN:VCALENDAR
VERSION:2.0
PRODID:-//Refract | The Seattle Glass Experience - ECPv6.15.20//NONSGML v1.0//EN
CALSCALE:GREGORIAN
METHOD:PUBLISH
X-WR-CALNAME:Refract | The Seattle Glass Experience
X-ORIGINAL-URL:https://refractseattle.org
X-WR-CALDESC:Events for Refract | The Seattle Glass Experience
REFRESH-INTERVAL;VALUE=DURATION:PT1H
X-Robots-Tag:noindex
X-PUBLISHED-TTL:PT1H
BEGIN:VTIMEZONE
TZID:America/Los_Angeles
BEGIN:DAYLIGHT
TZOFFSETFROM:-0800
TZOFFSETTO:-0700
TZNAME:PDT
DTSTART:20240310T100000
END:DAYLIGHT
BEGIN:STANDARD
TZOFFSETFROM:-0700
TZOFFSETTO:-0800
TZNAME:PST
DTSTART:20241103T090000
END:STANDARD
BEGIN:DAYLIGHT
TZOFFSETFROM:-0800
TZOFFSETTO:-0700
TZNAME:PDT
DTSTART:20250309T100000
END:DAYLIGHT
BEGIN:STANDARD
TZOFFSETFROM:-0700
TZOFFSETTO:-0800
TZNAME:PST
DTSTART:20251102T090000
END:STANDARD
BEGIN:DAYLIGHT
TZOFFSETFROM:-0800
TZOFFSETTO:-0700
TZNAME:PDT
DTSTART:20260308T100000
END:DAYLIGHT
BEGIN:STANDARD
TZOFFSETFROM:-0700
TZOFFSETTO:-0800
TZNAME:PST
DTSTART:20261101T090000
END:STANDARD
END:VTIMEZONE
BEGIN:VEVENT
DTSTART;TZID=America/Los_Angeles:20251019T140000
DTEND;TZID=America/Los_Angeles:20251019T170000
DTSTAMP:20260425T162306
CREATED:20250617T234616Z
LAST-MODIFIED:20250708T205827Z
UID:10001528-1760882400-1760893200@refractseattle.org
SUMMARY:Bri Chesler Public Demo ♿
DESCRIPTION:Seattle Artist Bri Chesler will be showing a hotshop demo on October 19 (Sun).
URL:https://refractseattle.org/event/bri-chesler-public-demo-%e2%99%bf/
LOCATION:Pratt Fine Arts Center\, 1902 S Main St.\, Seattle\, WA\, 98144\, United States
CATEGORIES:Accessible Location,Demonstration
ATTACH;FMTTYPE=image/png:https://refractseattle.org/wp-content/uploads/2025/06/Untitled-design-20.png
GEO:47.6002984;-122.3073913
X-APPLE-STRUCTURED-LOCATION;VALUE=URI;X-ADDRESS=Pratt Fine Arts Center 1902 S Main St. Seattle WA 98144 United States;X-APPLE-RADIUS=500;X-TITLE=1902 S Main St.:geo:-122.3073913,47.6002984
END:VEVENT
BEGIN:VEVENT
DTSTART;TZID=America/Los_Angeles:20251018T140000
DTEND;TZID=America/Los_Angeles:20251018T170000
DTSTAMP:20260425T162306
CREATED:20250708T214401Z
LAST-MODIFIED:20250716T194945Z
UID:10001580-1760796000-1760806800@refractseattle.org
SUMMARY:Gregory Lastrapes Art Exhibit
DESCRIPTION:Rooted in 20th-century Swedish glass traditions—especially those of Orrefors\, Transjö Hytta\, and Kosta—my work combines technical precision with a unique combination of natural motifs and visual storytelling. Text and symbolic imagery are central to my practice\, allowing me to explore emotional and political narratives within the formal rigor of techniques like Graal and Ariel. \n 
URL:https://refractseattle.org/event/gregory-lastrapes-art-exhibit/
LOCATION:Pratt Fine Arts Center\, 1902 S Main St.\, Seattle\, WA\, 98144\, United States
CATEGORIES:Exhibition
ATTACH;FMTTYPE=image/png:https://refractseattle.org/wp-content/uploads/2025/07/Untitled-design-60.png
GEO:47.6002984;-122.3073913
X-APPLE-STRUCTURED-LOCATION;VALUE=URI;X-ADDRESS=Pratt Fine Arts Center 1902 S Main St. Seattle WA 98144 United States;X-APPLE-RADIUS=500;X-TITLE=1902 S Main St.:geo:-122.3073913,47.6002984
END:VEVENT
BEGIN:VEVENT
DTSTART;TZID=America/Los_Angeles:20251018T140000
DTEND;TZID=America/Los_Angeles:20251018T170000
DTSTAMP:20260425T162306
CREATED:20250617T234028Z
LAST-MODIFIED:20250721T221305Z
UID:10001527-1760796000-1760806800@refractseattle.org
SUMMARY:Matthew Stern Art Exhibit ♿
DESCRIPTION:Seattle Artist Matthew Stern will be showing his blown glass pieces at Pratt’s Fusing Studio on Saturday\, October 18th 2:00 – 5:00pm.
URL:https://refractseattle.org/event/matthew-stern-art-exhibit-%e2%99%bf/
LOCATION:Pratt Fine Arts Center\, 1902 S Main St.\, Seattle\, WA\, 98144\, United States
CATEGORIES:Accessible Location,Exhibition
ATTACH;FMTTYPE=image/png:https://refractseattle.org/wp-content/uploads/2025/06/Matthew-Stern.png
GEO:47.6002984;-122.3073913
X-APPLE-STRUCTURED-LOCATION;VALUE=URI;X-ADDRESS=Pratt Fine Arts Center 1902 S Main St. Seattle WA 98144 United States;X-APPLE-RADIUS=500;X-TITLE=1902 S Main St.:geo:-122.3073913,47.6002984
END:VEVENT
BEGIN:VEVENT
DTSTART;TZID=America/Los_Angeles:20251018T140000
DTEND;TZID=America/Los_Angeles:20251018T170000
DTSTAMP:20260425T162306
CREATED:20250617T233133Z
LAST-MODIFIED:20250617T233133Z
UID:10001526-1760796000-1760806800@refractseattle.org
SUMMARY:Jason Christian and Dan Friday Collab Demo ♿
DESCRIPTION:Seattle Artists Jason Christian and Dan Friday will be showing a hotshop demo on October 18 (Sat) at the Pratt Hotshop.
URL:https://refractseattle.org/event/jason-christian-and-dan-friday-collab-demo-%e2%99%bf/
LOCATION:Pratt Fine Arts Center\, 1902 S Main St.\, Seattle\, WA\, 98144\, United States
CATEGORIES:Accessible Location,Demonstration
ATTACH;FMTTYPE=image/png:https://refractseattle.org/wp-content/uploads/2025/06/Dan-Friday.png
GEO:47.6002984;-122.3073913
X-APPLE-STRUCTURED-LOCATION;VALUE=URI;X-ADDRESS=Pratt Fine Arts Center 1902 S Main St. Seattle WA 98144 United States;X-APPLE-RADIUS=500;X-TITLE=1902 S Main St.:geo:-122.3073913,47.6002984
END:VEVENT
END:VCALENDAR